BEGIN:VCALENDAR
VERSION:2.0
METHOD:PUBLISH
X-WR-CALNAME:InterRidge :: International Cooperation in Ridge-Crest Studies |  十月 24 2008- 十月 24 2008
PRODID:-//strange bird labs//Drupal iCal API//EN
BEGIN:VEVENT
DTSTAMP;VALUE=DATE-TIME:20260228T083626Z
DTSTART;VALUE=DATE-TIME:20081022T080000Z
DTEND;VALUE=DATE-TIME:20081024T080000Z
UID:http://194.254.225.67/zh-hans/node/4915
URL;VALUE=URI:http://194.254.225.67/zh-hans/node/4915
SUMMARY:SCOR General Meeting 2008
DESCRIPTION:<p><strong>XXIXth SCOR General Meeting 2008</strong><br />
 22-24 October 2008\, Woods Hole\, Massachusetts\, USA<br />
 To be held at Woods Hole Oceanographic Institution\, following the SCOR 50th Anniversary Symposium.<br />
 <a href=\\"http\://www.scor-int.org/2008GM/2008GM.htm\\" title=\\"http\://www.scor-int.org/2008GM/2008GM.htm\\">http\://www.scor-int.org/2008GM/2008GM.htm</a></p>
 <p>One of the proposals for a new SCOR Working Group is an outcome of the 2007 InterRidge IRTI on Biogeochemical Interactions at Hydrothermal Vents.  Click <a href=\\"http\://www.scor-int.org/2008GM/Ridges.pdf\\">here</a> for the proposal on the SCOR website.</p>
 
END:VEVENT
END:VCALENDAR
